BEGIN:VCALENDAR
VERSION:2.0
PRODID:icalendar-ruby
CALSCALE:GREGORIAN
METHOD:PUBLISH
BEGIN:VEVENT
DTSTAMP:20260423T153830Z
UID:0d33998c-f3ca-48d4-a675-2dae732f841c
DTSTART:20220304T180000
DTEND:20220306T160000
DESCRIPTION:
LOCATION:Balfour Road\, Balfour\, 2410
SUMMARY:Bacardi Holiday Club
URL;VALUE=URI:https://bacardiholidayclub.howler.co.za/summeroflove
END:VEVENT
END:VCALENDAR
